BEGIN:VCALENDAR
VERSION:2.0
PRODID:-//Library Market//iCal Export//EN
BEGIN:VEVENT
SUMMARY:iPad &amp; iPhone Basic Q&amp;A
UID:6052
DTSTAMP:20260421T135500Z
DTSTART:20260421T183000Z
DTEND:20260421T193000Z
LOCATION:800 Niagara Street, Welland ON L3C 5Z2, Canada
ROOM: Program Room (Front Room)
DESCRIPTION:Drop in for basic assistance with your iPad or iPhone. Learn
  how to navigate settings, download apps, use library resources, and get c
 omfortable with your device at your own pace. No registration required, ju
 st bring your device and your questions!
URL:https://welland.librarycalendar.com/event/copy-ipad-iphone-basic-qa-60
 52
END:VEVENT
END:VCALENDAR
